BEGIN:VCALENDAR
VERSION:2.0
PRODID:-//eventon.com NONSGML v1.0//EN
BEGIN:VEVENT
UID:69e75222973da
DTSTAMP:20260421T033202
DTSTART:20250812T190000Z
DTEND:20250812T200000Z
TZID:America/Phoenix
LOCATION:CO+HOOTS COWORKING PHOENIX 221 E Indianola Ave Phoenix\,  AZ 85012
SUMMARY:STOP REPEATING. START SUCCEEDING. More Effective. More Free. More You.
DESCRIPTION: Learn how to spot the invisible patterns that slow you down\,  at work\,  in life\,  and within your teams. Through fun\,  interactive exercises\,  we guide participants to break out of auto-pilot habits\,  challenge the “way it’s always been done\, ” and build smarter\,  more intentional actions that drive real results. This[..]\nhttps://cohoots.com/event/stop-repeating-start-succeeding-more-effective-more-free-more-you/
URL:https://cohoots.com/event/stop-repeating-start-succeeding-more-effective-more-free-more-you/
END:VEVENT
END:VCALENDAR