BEGIN:VCALENDAR
VERSION:2.0
PRODID:-//eventon.com NONSGML v1.0//EN
BEGIN:VEVENT
UID:69e752199e5c3
DTSTAMP:20260421T033153
DTSTART:20250415T190000Z
DTEND:20250415T200000Z
TZID:America/Phoenix
LOCATION:CO+HOOTS MESA 225 E Main St. Ste 201 
SUMMARY:The Decision Tree: Empowering Decision-Making
DESCRIPTION: Discover how to simplify decision-making and boost team performance with The Decision Tree framework! This interactive session will help you clarify decision-making responsibilities\,  streamline delegation\,  and empower your team to take ownership with confidence. By breaking decisions into root\,  trunk\,  branch\,  and leaf levels\,  you’ll gain a structured approach that[..]\nhttps://cohoots.com/event/the-decision-tree-empowering-decision-making/
URL:https://cohoots.com/event/the-decision-tree-empowering-decision-making/
END:VEVENT
END:VCALENDAR