BEGIN:VCALENDAR
VERSION:2.0
PRODID:-//eventon.com NONSGML v1.0//EN
BEGIN:VEVENT
UID:69e8aee7cd17f
DTSTAMP:20260422T042007
DTSTART:20250318T190000Z
DTEND:20250318T200000Z
TZID:America/Phoenix
LOCATION:CO+HOOTS MESA 225 E Main St. Ste 201 
SUMMARY:The Wealth Playbook:  How to Keep More\,  Grow More and Stress Less
DESCRIPTION: The Wealth Playbook: How to Keep More\,  Grow More\,  and Stress Less Join us for an insightful session that will transform the way you think about wealth management and financial growth. This event is designed to equip you with practical strategies to maximize your financial potential while reducing unnecessary risks[..]\nhttps://cohoots.com/event/the-wealth-playbook-how-to-keep-more-grow-more-and-stress-less/
URL:https://cohoots.com/event/the-wealth-playbook-how-to-keep-more-grow-more-and-stress-less/
END:VEVENT
END:VCALENDAR