BEGIN:VCALENDAR
VERSION:2.0
PRODID:-//eventon.com NONSGML v1.0//EN
BEGIN:VEVENT
UID:69e9f956348d9
DTSTAMP:20260423T034958
DTSTART:20241030T003000Z
DTEND:20241030T020000Z
TZID:America/Phoenix
LOCATION:CO+HOOTS COWORKING PHOENIX 221 E Indianola Ave Phoenix\,  AZ 85012
SUMMARY:Casting the Right Spell: Upskilling & Hiring Through Apprenticeships Mixer
DESCRIPTION: Register here. **THIS IS AN EMPLOYER ONLY EVENT** Do you ever wish you could wave a magic wand and transform your business in these areas? &#8211; Digital Marketing/Social Media &#8211; IT Helpdesk Support &#8211; Application Development &#8211; Data Analytics &#8211; Cybersecurity Join us on October 29th for an evening of[..]\nhttps://cohoots.com/event/casting-the-right-spell-upskilling-hiring-through-apprenticeships-mixer/
URL:https://cohoots.com/event/casting-the-right-spell-upskilling-hiring-through-apprenticeships-mixer/
END:VEVENT
END:VCALENDAR