BEGIN:VCALENDAR
VERSION:2.0
PRODID:-//eventon.com NONSGML v1.0//EN
BEGIN:VEVENT
UID:69e4c36581a5d
DTSTAMP:20260419T045829
DTSTART:20230425T193000Z
DTEND:20230425T203000Z
TZID:America/Phoenix
LOCATION:CO+HOOTS COWORKING PHOENIX 221 E Indianola Ave Phoenix\,  AZ 85012
SUMMARY:THINK TANK
DESCRIPTION: Leveraging the power of collaboration to solve challenges and thrive. Feel like you&#8217;re stuck in a rut? Or overwhelmed with an issue you need more time to manage? Sometimes it&#8217;s easy to feel alone in tackling your challenges. We get it! ThinkTank is a collaborative space to generate solutions through[..]\nhttps://cohoots.com/event/think-tank/
URL:https://cohoots.com/event/think-tank/
END:VEVENT
END:VCALENDAR