BEGIN:VCALENDAR
VERSION:2.0
PRODID:-//eventon.com NONSGML v1.0//EN
BEGIN:VEVENT
UID:69e4c2faa79e1
DTSTAMP:20260419T045642
DTSTART:20230419T190000Z
DTEND:20230419T200000Z
TZID:America/Phoenix
LOCATION:CO+HOOTS MESA 225 E Main St. Ste 201 
SUMMARY:Mesa Member Event: Green Gathering
DESCRIPTION: Come hang out with us in Mesa and enjoy some delicious fresh fruit …. on us! CO+ Mesa Kitchen (2nd floor) Fresh fruit and veggies will be provided – in honor of Earth Day! We will be providing fruit and veggies so there will be something for everyone. Please be[..]\nhttps://cohoots.com/event/mesa-member-event-green-gathering/
URL:https://cohoots.com/event/mesa-member-event-green-gathering/
END:VEVENT
END:VCALENDAR