BEGIN:VCALENDAR
VERSION:2.0
PRODID:-//eventon.com NONSGML v1.0//EN
BEGIN:VEVENT
UID:69e7525f6ebbd
DTSTAMP:20260421T033303
DTSTART:20210107T120000Z
DTEND:20210107T130000Z
TZID:UTC
LOCATION:
SUMMARY:Speaker Series: Design Your Life; Design Your 2021
DESCRIPTION: Without question\,  it takes something for we humans – even in great times – to have a vision and take the right actions to create the success we want in our lives\,  both personally and professionally. Whether you want to take on your career\,  love life\,  health\,  family (yes\,  even[..]\nhttps://cohoots.com/event/speaker-series-design-your-life-design-your-2021/
URL:https://cohoots.com/event/speaker-series-design-your-life-design-your-2021/
END:VEVENT
END:VCALENDAR