BEGIN:VCALENDAR
VERSION:2.0
PRODID:-//eventon.com NONSGML v1.0//EN
BEGIN:VEVENT
UID:69e752417776c
DTSTAMP:20260421T033233
DTSTART:20200310T090000Z
DTEND:20200310T163000Z
TZID:UTC
LOCATION:CO+HOOTS COWORKING PHOENIX 221 E Indianola Ave Phoenix\,  AZ 85012
SUMMARY:CO+HOOTS ADVISEMENT DAY
DESCRIPTION: Book a 1-on-1 session with one of Phoenix’s top business leaders. Get tactical with someone who has seen and done it all. Bring your problems and be prepared to leave with immediate solutions and a roadmap for continued success. Marketing? Operations? Hiring? Scaling? Branding? For a limited time\,  get your[..]\nhttps://cohoots.com/event/cohoots-advisement-day-march/
URL:https://cohoots.com/event/cohoots-advisement-day-march/
END:VEVENT
END:VCALENDAR